BEGIN:VCALENDAR
VERSION:2.0
PRODID:-//De Groene Linde - ECPv6.15.18//NONSGML v1.0//EN
CALSCALE:GREGORIAN
METHOD:PUBLISH
X-ORIGINAL-URL:https://degroenelinde.nl/be
X-WR-CALDESC:Events voor De Groene Linde
REFRESH-INTERVAL;VALUE=DURATION:PT1H
X-Robots-Tag:noindex
X-PUBLISHED-TTL:PT1H
BEGIN:VTIMEZONE
TZID:Europe/Amsterdam
BEGIN:DAYLIGHT
TZOFFSETFROM:+0100
TZOFFSETTO:+0200
TZNAME:CEST
DTSTART:20250330T010000
END:DAYLIGHT
BEGIN:STANDARD
TZOFFSETFROM:+0200
TZOFFSETTO:+0100
TZNAME:CET
DTSTART:20251026T010000
END:STANDARD
BEGIN:DAYLIGHT
TZOFFSETFROM:+0100
TZOFFSETTO:+0200
TZNAME:CEST
DTSTART:20260329T010000
END:DAYLIGHT
BEGIN:STANDARD
TZOFFSETFROM:+0200
TZOFFSETTO:+0100
TZNAME:CET
DTSTART:20261025T010000
END:STANDARD
BEGIN:DAYLIGHT
TZOFFSETFROM:+0100
TZOFFSETTO:+0200
TZNAME:CEST
DTSTART:20270328T010000
END:DAYLIGHT
BEGIN:STANDARD
TZOFFSETFROM:+0200
TZOFFSETTO:+0100
TZNAME:CET
DTSTART:20271031T010000
END:STANDARD
END:VTIMEZONE
BEGIN:VEVENT
DTSTART;TZID=Europe/Amsterdam:20260722T193000
DTEND;TZID=Europe/Amsterdam:20260722T220000
DTSTAMP:20260421T035729
CREATED:20260420T072338Z
LAST-MODIFIED:20260420T141832Z
UID:308311-1784748600-1784757600@degroenelinde.nl
SUMMARY:Sound & Silence
DESCRIPTION:Een mooie beleving waarin geur\, trilling en klank samenkomen en je naar diepe ontspanning brengen. Deze bijzondere avond wordt georganiseerd door Carolien van Foot For Thought. \nLaat je raken door de kracht van geurfrequenties en laat je begeleiden naar binnen\, in een meditatie. Laat de klankschalen en instrumenten je meenemen\, uit je hoofd\, naar de stilte in jezelf. \n“Carolien brengt je tijdens deze helende reis naar je innerlijke stilte.” \nBij binnenkomst liggen matjes\, kussentjes en kleedjes voor je klaar. Trek comfortabele kleding aan en zorg dat je jezelf eventueel warm kunt houden. Laat sieraden thuis. \nAanmelden kan via e-mail: info@footforthought.nl. Na afloop graag contant betalen.
URL:https://degroenelinde.nl/be/evenement/sound-silence-3
LOCATION:De Groene Linde\, De Droogmakerij 23\, Heiloo\, Noord-Holland\, 1851 LX\, Netherlands
ATTACH;FMTTYPE=image/jpeg:https://degroenelinde.nl/app/uploads/2026/04/Ontwerp-zonder-titel-30-scaled.jpg
ORGANIZER;CN="Foot for Thought":MAILTO:info@footforthought.nl
END:VEVENT
END:VCALENDAR