BEGIN:VCALENDAR
VERSION:2.0
PRODID:-//De Groene Linde - ECPv6.15.18//NONSGML v1.0//EN
CALSCALE:GREGORIAN
METHOD:PUBLISH
X-ORIGINAL-URL:https://degroenelinde.nl
X-WR-CALDESC:Evenementen voor De Groene Linde
REFRESH-INTERVAL;VALUE=DURATION:PT1H
X-Robots-Tag:noindex
X-PUBLISHED-TTL:PT1H
BEGIN:VTIMEZONE
TZID:Europe/Amsterdam
BEGIN:DAYLIGHT
TZOFFSETFROM:+0100
TZOFFSETTO:+0200
TZNAME:CEST
DTSTART:20250330T010000
END:DAYLIGHT
BEGIN:STANDARD
TZOFFSETFROM:+0200
TZOFFSETTO:+0100
TZNAME:CET
DTSTART:20251026T010000
END:STANDARD
BEGIN:DAYLIGHT
TZOFFSETFROM:+0100
TZOFFSETTO:+0200
TZNAME:CEST
DTSTART:20260329T010000
END:DAYLIGHT
BEGIN:STANDARD
TZOFFSETFROM:+0200
TZOFFSETTO:+0100
TZNAME:CET
DTSTART:20261025T010000
END:STANDARD
BEGIN:DAYLIGHT
TZOFFSETFROM:+0100
TZOFFSETTO:+0200
TZNAME:CEST
DTSTART:20270328T010000
END:DAYLIGHT
BEGIN:STANDARD
TZOFFSETFROM:+0200
TZOFFSETTO:+0100
TZNAME:CET
DTSTART:20271031T010000
END:STANDARD
END:VTIMEZONE
BEGIN:VEVENT
DTSTART;TZID=Europe/Amsterdam:20260610T103000
DTEND;TZID=Europe/Amsterdam:20260610T130000
DTSTAMP:20260421T035700
CREATED:20260415T123609Z
LAST-MODIFIED:20260420T101055Z
UID:307950-1781087400-1781096400@degroenelinde.nl
SUMMARY:Sensitive Innerjourney
DESCRIPTION:Energetische reis naar binnen met 9D breathwork en Cacaoceremonie\nWij nodigen je uit voor een Sensitive Innerjourney. Een ochtend die volledig in het teken staat van verzachten\, ontspannen en het opnieuw herinneren van jouw ware essentie. In een liefdevolle en veilige bedding mag je zakken in je eigen coconnetje\, waar je zenuwstelsel helemaal tot rust mag komen. \nLanden in je lichaam\nWe beginnen deze reis samen. Rustig landen en thuiskomen in je lichaam. Onder het genot van ceremoniële cacao en blauwe lotus zetten we een intentie. Open je hart\, terwijl de geuren van de essentiële oliën en aurasprays de ruimte vullen. \nEen ademreis naar huis\nMet een koptelefoon en een verduisterend oogmasker op je yogamatje zak je dieper weg in je eigen wereld. Geen woorden\, alleen voelen. Via de 9D Breathwork journey nemen de vibraties van de muziek\, stemmen en frequenties je mee. De poorten naar je onderbewuste worden geopend om zo precies datgene te releasen wat jou verder helpt. \nHet is een moment voor jezelf\, een stap in je bewustzijn\, waarbij vastgezette energie weer vrij mag gaan stromen. \nWij begeleiden je gedurende je hele reis en laten je levensenergie weer stromen\, soms met behulp van zachte aanrakingen op chakra en of meridiaan punten. Tijdens de reis maken we gebruik van essentiële oliën en aurasprays. \nWat levert het je op?\nUit je hoofd in je hart.\nDoor te vertragen en te verzachten\, ga je herinneren wie en waarvoor je hier op aarde bent. Het doorbreken van trauma’s en blokkades zorgt voor meer rust\, helderheid en een diepe verbinding met jezelf. Je maakt weer keuzes die in overeenstemming liggen met wie jij in werkelijkheid bent. \nVerbinden in de cirkel\nNa afloop landen we zacht in een sharing cirkel. Er is gelegenheid voor een kopje thee en healthy snacks om de ervaring rustig te integreren. \nBen jij nieuwsgierig naar de Sensitive innerjourney en sta je open voor iets nieuws? Ben je toe aan een moment van rust\, ontspanning en het ontvangen van wat jij nú nodig hebt? Je bent meer dan welkom in onze cirkel.
URL:https://degroenelinde.nl/evenement/sensitive-innerjourney-2
LOCATION:De Groene Linde\, De Droogmakerij 23\, Heiloo\, Noord-Holland\, 1851 LX\, Netherlands
ATTACH;FMTTYPE=image/jpeg:https://degroenelinde.nl/app/uploads/2026/04/Ontwerp-zonder-titel-28-scaled.jpg
ORGANIZER;CN="Marije Wichman & Maikel Mienis":MAILTO:kapbymarije@gmail.com
END:VEVENT
BEGIN:VEVENT
DTSTART;TZID=Europe/Amsterdam:20260611T193000
DTEND;TZID=Europe/Amsterdam:20260611T220000
DTSTAMP:20260421T035700
CREATED:20260420T085241Z
LAST-MODIFIED:20260420T141843Z
UID:308314-1781206200-1781215200@degroenelinde.nl
SUMMARY:Sound of Breath
DESCRIPTION:Carolien van Foot for Thought organiseert een prachtige avond. Een innerlijke reis\, diep naar de innerlijke stilte. \nEen mooi avond waar de helende klanken van de soundhealing en de verbonden ademhaling je gids zijn naar binnen. Er ontstaat ruimte voor heling en diepe ontspanning. Geef de sessie kracht met je eigen intentie en laat eventuele spanning of stress los en voed je ziel met nieuwe energie. \nBij binnenkomst liggen matjes\, kussentjes en kleedjes voor je klaar. Trek comfortabele kleding aan en zorg dat je jezelf eventueel warm kunt houden. Laat sieraden thuis. \nAanmelden kan via e-mail: info@footforthought.nl. Na afloop graag contant betalen.
URL:https://degroenelinde.nl/evenement/sound-of-breath
LOCATION:De Groene Linde\, De Droogmakerij 23\, Heiloo\, Noord-Holland\, 1851 LX\, Netherlands
ATTACH;FMTTYPE=image/jpeg:https://degroenelinde.nl/app/uploads/2026/04/Ontwerp-zonder-titel-31-scaled.jpg
ORGANIZER;CN="Foot for Thought":MAILTO:info@footforthought.nl
END:VEVENT
BEGIN:VEVENT
DTSTART;TZID=Europe/Amsterdam:20260613T100000
DTEND;TZID=Europe/Amsterdam:20260613T160000
DTSTAMP:20260421T035700
CREATED:20260408T120415Z
LAST-MODIFIED:20260420T101039Z
UID:307054-1781344800-1781366400@degroenelinde.nl
SUMMARY:Werken met Geurfrequenties
DESCRIPTION:De workshop wordt gegeven door Marianne en Judith. Je kan de geurfrequenties van De Groene Linde op verschillende manieren toepassen. In deze workshop krijg je de gelegenheid om de verschillende manieren in de praktijk te brengen en te ervaren. Uiteraard gebruikmakend van de verschillende geurfrequenties van De Groene Linde. \nHoe werkt een geurfrequentie?\nAlles in het universum trilt en dus ook de etherische olie die is gebruikt om de geurfrequenties mee te maken. Door de hoge trillingen die de geurfrequenties hebben kan je je eigen energiesysteem beïnvloeden. Als jouw systeem een lagere trilling heeft\, omdat je bijvoorbeeld verdriet hebt\, dan zullen de hoge trillingen van de geurfrequenties jouw lagere trilling verhogen met als gevolg dat je je weer beter gaat voelen. Door met geurfrequenties te werken kan je op een eenvoudige manier jezelf helpen tijdens lastige perioden in je leven maar ook kan je de geurfrequenties gebruiken voor je energetische- en persoonlijke ontwikkeling. \nWat ga je doen\nTijdens deze workshop ga je de geurfrequenties ervaren. Je kan de geurfrequenties op verschillende manieren toepassen. Tijdens de workshop krijg je de gelegenheid om de verschillende manieren in de praktijk te brengen en te ervaren. Ik ben van mening dat door het te ervaren\, de beste manier is om te leren over geurfrequenties. Je krijgt de gelegenheid om speciaal voor jouw praktijk of privésituatie interessante toepassingen van onze geurfrequenties te ontdekken en je eigen te maken. En door de ervaringen van de andere deelnemers krijg je nog meer inzichten en tips en zo ontstaat er een mooie verdieping in deze materie.
URL:https://degroenelinde.nl/evenement/werken-met-geurfrequenties-2
LOCATION:De Groene Linde\, De Droogmakerij 23\, Heiloo\, Noord-Holland\, 1851 LX\, Netherlands
ATTACH;FMTTYPE=image/jpeg:https://degroenelinde.nl/app/uploads/2026/04/werken-met-geurfrequenties-workshop-scaled.jpg
ORGANIZER;CN="De Groene Linde":MAILTO:info@degroenelinde.nl
END:VEVENT
BEGIN:VEVENT
DTSTART;TZID=Europe/Amsterdam:20260614T100000
DTEND;TZID=Europe/Amsterdam:20260614T160000
DTSTAMP:20260421T035700
CREATED:20260408T120627Z
LAST-MODIFIED:20260420T101032Z
UID:307058-1781431200-1781452800@degroenelinde.nl
SUMMARY:Energetische chakra voetmassage
DESCRIPTION:Een nieuwe workshop is geboren\, de energetische chakra voetmassage. Een zachte massage die je op de voeten geeft en waarmee je het chakra systeem balanceert. Met deze zachte massage kunnen blokkades die in de chakra’s zijn ontstaan los worden gemaakt\, waardoor de energie weer op een gezonde manier kan stromen. Het is een massage vorm die je als losse behandeling kan aanbieden\, maar je kunt deze ook heel makkelijk integreren in een behandeling die je al geeft. \nWat ga je leren?\nNatuurlijk leer je de massage techniek Energetische chakra Voetmassage aan. Je krijgt kennis over je chakra’s aangereikt en je werkt natuurlijk met de geurfrequenties. Tijdens deze workshop maken we gebruik van de Chakra geurfrequenties. Het houdt niet in dat je geen andere geurfrequenties kan toepassen bij deze behandeling.\nJe krijgt genoeg gelegenheid om de massagetechniek te oefenen en te ondergaan.
URL:https://degroenelinde.nl/evenement/energetische-chakra-voetmassage-2
LOCATION:De Groene Linde\, De Droogmakerij 23\, Heiloo\, Noord-Holland\, 1851 LX\, Netherlands
ATTACH;FMTTYPE=image/jpeg:https://degroenelinde.nl/app/uploads/2026/04/energetisch-voetmassage-workshop-scaled.jpg
ORGANIZER;CN="De Groene Linde":MAILTO:info@degroenelinde.nl
END:VEVENT
BEGIN:VEVENT
DTSTART;TZID=Europe/Amsterdam:20260619T100000
DTEND;TZID=Europe/Amsterdam:20260619T130000
DTSTAMP:20260421T035700
CREATED:20260408T121113Z
LAST-MODIFIED:20260420T101024Z
UID:307060-1781863200-1781874000@degroenelinde.nl
SUMMARY:Workshop Numerologie
DESCRIPTION:Ontdek hoe numerologie -oftewel getallenleer– werkt! Hiervoor heb je alleen je geboortedatum nodig. Suzan Broersen begeleidt jou stap voor stap in het proces\, waardoor deze Workshop Numerologie ook voor niet-rekenwonders goed te doen is! \nDeze workshop geeft inzicht in jouw persoonlijke levenspad. Door de trilling van de getallen te begrijpen\, kun je synchroniciteit herkennen en je leven beter in balans brengen. \nStap voor stap bereken je de getallen in jouw eigen numeroscoop. Elk getal is gekoppeld aan een element (water\, vuur\, aarde\, lucht) en planeet. Heb jij een meestergetal (11\, 22 of 33) in je numeroscoop? Dan voel je een extra verantwoordelijkheid in je leven. Op welk gebied? Dat laat de rest van je numeroscoop zien! Heb je een karmisch getal\, zoals 13\, 14\, 16 of 19? Het woord karma zegt het al: je hebt een karmisch stuk uit te werken. Wat het is\, laten het specifieke getal én de plek in je numeroscoop zien! \n 
URL:https://degroenelinde.nl/evenement/workshop-numerologie
LOCATION:De Groene Linde\, De Droogmakerij 23\, Heiloo\, Noord-Holland\, 1851 LX\, Netherlands
ATTACH;FMTTYPE=image/jpeg:https://degroenelinde.nl/app/uploads/2026/04/numerologie-workshop-1-scaled.jpg
ORGANIZER;CN="Suzan Broersen":MAILTO:info@suzanbroersen.nl
END:VEVENT
BEGIN:VEVENT
DTSTART;TZID=Europe/Amsterdam:20260621T100000
DTEND;TZID=Europe/Amsterdam:20260621T160000
DTSTAMP:20260421T035700
CREATED:20260408T123246Z
LAST-MODIFIED:20260414T095623Z
UID:307064-1782036000-1782057600@degroenelinde.nl
SUMMARY:Inspiratiedag bij De Groene Linde!
DESCRIPTION:Al jaren een groot succes! De Inspiratiedag bij De Groene Linde! Laat je inspireren door de heerlijke geuren in onze showroom en je verrassen door de mooie handgemaakte spullen van onze standhouders! \nIn onze showroom zijn meerdere ondernemers aanwezig met hun prachtige handgemaakte producten zoals kaarsen\, altaartjes\, wierookhouders\, teveel om op te noemen. En niet alleen handgemaakte producten\, ook zijn er leuke activiteiten waar jij aan tafel kunt schuiven. Wat dacht je van een mooie kaartlegging of een korte Reiki behandeling. Geniet buiten van een heerlijk kopje koffie van de Barista bar of laat je kinderen meedoen aan leuke activiteiten. Zoveel leuks\, het is teveel om op te noemen! \nBen jij erbij?\nBen jij er ook bij? Wij hopen jou te zien op zondag 21 juni!
URL:https://degroenelinde.nl/evenement/inspiratiedag-bij-de-groene-linde
LOCATION:De Groene Linde\, De Droogmakerij 23\, Heiloo\, Noord-Holland\, 1851 LX\, Netherlands
ATTACH;FMTTYPE=image/jpeg:https://degroenelinde.nl/app/uploads/2026/04/uitgelichte-fotos-eventkalender-scaled.jpg
ORGANIZER;CN="De Groene Linde":MAILTO:info@degroenelinde.nl
END:VEVENT
BEGIN:VEVENT
DTSTART;TZID=Europe/Amsterdam:20260624T193000
DTEND;TZID=Europe/Amsterdam:20260624T220000
DTSTAMP:20260421T035700
CREATED:20260420T072116Z
LAST-MODIFIED:20260420T141837Z
UID:308308-1782329400-1782338400@degroenelinde.nl
SUMMARY:Sound & Silence
DESCRIPTION:Een mooie beleving waarin geur\, trilling en klank samenkomen en je naar diepe ontspanning brengen. Deze bijzondere avond wordt georganiseerd door Carolien van Foot For Thought. \nLaat je raken door de kracht van geurfrequenties en laat je begeleiden naar binnen\, in een meditatie. Laat de klankschalen en instrumenten je meenemen\, uit je hoofd\, naar de stilte in jezelf. \n“Carolien brengt je tijdens deze helende reis naar je innerlijke stilte.” \nBij binnenkomst liggen matjes\, kussentjes en kleedjes voor je klaar. Trek comfortabele kleding aan en zorg dat je jezelf eventueel warm kunt houden. Laat sieraden thuis. \nAanmelden kan via e-mail: info@footforthought.nl. Na afloop graag contant betalen.
URL:https://degroenelinde.nl/evenement/sound-silence-2
LOCATION:De Groene Linde\, De Droogmakerij 23\, Heiloo\, Noord-Holland\, 1851 LX\, Netherlands
ATTACH;FMTTYPE=image/jpeg:https://degroenelinde.nl/app/uploads/2026/04/Ontwerp-zonder-titel-30-scaled.jpg
ORGANIZER;CN="Foot for Thought":MAILTO:info@footforthought.nl
END:VEVENT
BEGIN:VEVENT
DTSTART;TZID=Europe/Amsterdam:20260627T110000
DTEND;TZID=Europe/Amsterdam:20260627T170000
DTSTAMP:20260421T035700
CREATED:20260408T123440Z
LAST-MODIFIED:20260420T084305Z
UID:307077-1782558000-1782579600@degroenelinde.nl
SUMMARY:Workshop Werken met Klankschalen
DESCRIPTION:In deze workshop Werken met Klankschalen van Jessica Vogel leren we over de veelzijdigheid van het werken met Klankschalen! We maken kennis met wat je in de basis moet weten over de traditie\, het gebruik\, het vasthouden en het bespelen van de schalen. \nOok belichten we daarbij de Boeddhistische traditie waarbij Mantra’s een belangrijke rol spelen. We leren een ‘klankdiagnose’ te maken; het lichaam verteld ons met resonantie feilloos waar de energie mogelijk niet heel lekker stroomt\, de schaal is een klankkast! We onderzoeken hoe je intuïtief met de schalen werkt en je krijgt daarbij de tips en trucs om te ‘freewheelen’. Uiteraard gaan we ook heerlijk ontspannen met Klankschalen! \n 
URL:https://degroenelinde.nl/evenement/workshop-werken-met-klankschalen-2
LOCATION:De Groene Linde\, De Droogmakerij 23\, Heiloo\, Noord-Holland\, 1851 LX\, Netherlands
ATTACH;FMTTYPE=image/jpeg:https://degroenelinde.nl/app/uploads/2026/04/Ontwerp-zonder-titel-21-scaled.jpg
ORGANIZER;CN="Jessica Vogel":MAILTO:info@pluter-jupito.nl
END:VEVENT
BEGIN:VEVENT
DTSTART;TZID=Europe/Amsterdam:20260628T110000
DTEND;TZID=Europe/Amsterdam:20260628T170000
DTSTAMP:20260421T035700
CREATED:20260408T124457Z
LAST-MODIFIED:20260420T101004Z
UID:307081-1782644400-1782666000@degroenelinde.nl
SUMMARY:Workshop Masterclass Soundbath
DESCRIPTION:In deze Masterclass Soundbath werken we niet alleen met metalen klankschalen\, maar ook met een rijker palet aan instrumenten: kristallen klankschalen\, gongs\, shrutibox\, rainstick\, oceandrums en meer. Onder leiding van Jessica Vogel ontdek je hoe je een Klankbad of Sound Journey voor groepen kunt creëren – een helende reis van trilling\, klank\, koestering en geborgenheid\, verhaal en stilte. We belichten de kunst van opbouw\, afstemming en het intuïtief begeleiden van een soundbath\, zodat je zelfverzekerd een diepe ervaring kunt neerzetten. \n 
URL:https://degroenelinde.nl/evenement/workshop-masterclass-soundbath
LOCATION:De Groene Linde\, De Droogmakerij 23\, Heiloo\, Noord-Holland\, 1851 LX\, Netherlands
ATTACH;FMTTYPE=image/jpeg:https://degroenelinde.nl/app/uploads/2026/04/soundbath-workshop-scaled.jpg
ORGANIZER;CN="Jessica Vogel":MAILTO:info@pluter-jupito.nl
END:VEVENT
BEGIN:VEVENT
DTSTART;TZID=Europe/Amsterdam:20260715T103000
DTEND;TZID=Europe/Amsterdam:20260715T130000
DTSTAMP:20260421T035700
CREATED:20260415T123911Z
LAST-MODIFIED:20260420T090124Z
UID:307953-1784111400-1784120400@degroenelinde.nl
SUMMARY:Sensitive Innerjourney
DESCRIPTION:Energetische reis naar binnen met 9D breathwork en Cacaoceremonie\nWij nodigen je uit voor een Sensitive Innerjourney. Een ochtend die volledig in het teken staat van verzachten\, ontspannen en het opnieuw herinneren van jouw ware essentie. In een liefdevolle en veilige bedding mag je zakken in je eigen coconnetje\, waar je zenuwstelsel helemaal tot rust mag komen. \nLanden in je lichaam\nWe beginnen deze reis samen. Rustig landen en thuiskomen in je lichaam. Onder het genot van ceremoniële cacao en blauwe lotus zetten we een intentie. Open je hart\, terwijl de geuren van de essentiële oliën en aurasprays de ruimte vullen. \nEen ademreis naar huis\nMet een koptelefoon en een verduisterend oogmasker op je yogamatje zak je dieper weg in je eigen wereld. Geen woorden\, alleen voelen. Via de 9D Breathwork journey nemen de vibraties van de muziek\, stemmen en frequenties je mee. De poorten naar je onderbewuste worden geopend om zo precies datgene te releasen wat jou verder helpt. \nHet is een moment voor jezelf\, een stap in je bewustzijn\, waarbij vastgezette energie weer vrij mag gaan stromen. \nWij begeleiden je gedurende je hele reis en laten je levensenergie weer stromen\, soms met behulp van zachte aanrakingen op chakra en of meridiaan punten. Tijdens de reis maken we gebruik van essentiële oliën en aurasprays. \nWat levert het je op?\nUit je hoofd in je hart.\nDoor te vertragen en te verzachten\, ga je herinneren wie en waarvoor je hier op aarde bent. Het doorbreken van trauma’s en blokkades zorgt voor meer rust\, helderheid en een diepe verbinding met jezelf. Je maakt weer keuzes die in overeenstemming liggen met wie jij in werkelijkheid bent. \nVerbinden in de cirkel\nNa afloop landen we zacht in een sharing cirkel. Er is gelegenheid voor een kopje thee en healthy snacks om de ervaring rustig te integreren. \nBen jij nieuwsgierig naar de Sensitive innerjourney en sta je open voor iets nieuws? Ben je toe aan een moment van rust\, ontspanning en het ontvangen van wat jij nú nodig hebt? Je bent meer dan welkom in onze cirkel.
URL:https://degroenelinde.nl/evenement/sensitive-innerjourney-2-2
LOCATION:De Groene Linde\, De Droogmakerij 23\, Heiloo\, Noord-Holland\, 1851 LX\, Netherlands
ATTACH;FMTTYPE=image/jpeg:https://degroenelinde.nl/app/uploads/2026/04/Ontwerp-zonder-titel-28-scaled.jpg
ORGANIZER;CN="Marije Wichman & Maikel Mienis":MAILTO:kapbymarije@gmail.com
END:VEVENT
BEGIN:VEVENT
DTSTART;TZID=Europe/Amsterdam:20260722T193000
DTEND;TZID=Europe/Amsterdam:20260722T220000
DTSTAMP:20260421T035700
CREATED:20260420T072338Z
LAST-MODIFIED:20260420T141832Z
UID:308311-1784748600-1784757600@degroenelinde.nl
SUMMARY:Sound & Silence
DESCRIPTION:Een mooie beleving waarin geur\, trilling en klank samenkomen en je naar diepe ontspanning brengen. Deze bijzondere avond wordt georganiseerd door Carolien van Foot For Thought. \nLaat je raken door de kracht van geurfrequenties en laat je begeleiden naar binnen\, in een meditatie. Laat de klankschalen en instrumenten je meenemen\, uit je hoofd\, naar de stilte in jezelf. \n“Carolien brengt je tijdens deze helende reis naar je innerlijke stilte.” \nBij binnenkomst liggen matjes\, kussentjes en kleedjes voor je klaar. Trek comfortabele kleding aan en zorg dat je jezelf eventueel warm kunt houden. Laat sieraden thuis. \nAanmelden kan via e-mail: info@footforthought.nl. Na afloop graag contant betalen.
URL:https://degroenelinde.nl/evenement/sound-silence-3
LOCATION:De Groene Linde\, De Droogmakerij 23\, Heiloo\, Noord-Holland\, 1851 LX\, Netherlands
ATTACH;FMTTYPE=image/jpeg:https://degroenelinde.nl/app/uploads/2026/04/Ontwerp-zonder-titel-30-scaled.jpg
ORGANIZER;CN="Foot for Thought":MAILTO:info@footforthought.nl
END:VEVENT
END:VCALENDAR